BEGIN:VCALENDAR
VERSION:2.0
PRODID:-//AGLOW SPORTS KONSULT - ECPv5.12.4//NONSGML v1.0//EN
CALSCALE:GREGORIAN
METHOD:PUBLISH
X-WR-CALNAME:AGLOW SPORTS KONSULT
X-ORIGINAL-URL:https://aglowsportskonsult.co.uk
X-WR-CALDESC:Events for AGLOW SPORTS KONSULT
REFRESH-INTERVAL;VALUE=DURATION:PT1H
X-Robots-Tag:noindex
X-PUBLISHED-TTL:PT1H
BEGIN:VTIMEZONE
TZID:UTC
BEGIN:STANDARD
TZOFFSETFROM:+0000
TZOFFSETTO:+0000
TZNAME:UTC
DTSTART:20220101T000000
END:STANDARD
END:VTIMEZONE
BEGIN:VEVENT
DTSTART;TZID=UTC:20220827T080000
DTEND;TZID=UTC:20221112T120000
DTSTAMP:20260425T104448
CREATED:20220822T132816Z
LAST-MODIFIED:20231130T025310Z
UID:1968-1661587200-1668254400@aglowsportskonsult.co.uk
SUMMARY:Aglow 1-2-1 Hourly 12 Week Block Sessions
DESCRIPTION:Aglow 1-2-1 Hourly 12 Week Block Sessions \n** Please note that we require a full month’s notice for any pause or outright cancellation of your subscription.
URL:https://aglowsportskonsult.co.uk/event/aglow-1-2-1-hourly-12-week-block-sessions/
LOCATION:Balgownie Playing fields\, University of Aberdeen\, Balgownie Road\, Bridge of Don\, Aberdeen\, AB22 8LX
CATEGORIES:Football Class
ATTACH;FMTTYPE=image/jpeg:https://aglowsportskonsult.co.uk/wp-content/uploads/2022/01/IMG_3365-300x200-1.jpg
ORGANIZER;CN="OKECHUKWU%20ZUBI%20EMELE":MAILTO:info@aglowsportskonsult.co.uk
END:VEVENT
END:VCALENDAR